BEGIN:VCALENDAR
VERSION:2.0
PRODID:DPCALENDAR
CALSCALE:GREGORIAN
BEGIN:VTIMEZONE
TZID:Europe/Berlin
X-MICROSOFT-CDO-TZID:4
BEGIN:STANDARD
DTSTART:20251026T010000
TZOFFSETFROM:+0200
TZOFFSETTO:+0100
TZNAME:CET
END:STANDARD
BEGIN:STANDARD
DTSTART:20261025T010000
TZOFFSETFROM:+0200
TZOFFSETTO:+0100
TZNAME:CET
END:STANDARD
BEGIN:DAYLIGHT
DTSTART:20260329T010000
TZOFFSETFROM:+0100
TZOFFSETTO:+0200
TZNAME:CEST
END:DAYLIGHT
END:VTIMEZONE
X-WR-TIMEZONE:Europe/Berlin
BEGIN:VEVENT
DTSTART;TZID=Europe/Berlin:20250911T160000
DTEND;TZID=Europe/Berlin:20250911T173000
UID:83D05E0B-1F03-40D2-8EE6-6C47BF0907B1
SUMMARY:Konfi-Treff
CREATED:20250814T081807Z
DTSTAMP:20250814T081807Z
URL:https://move.st-jakobus-vogtland.de/konfizeit-2025-27/konfi-treff
LAST-MODIFIED:20250904T090017Z
SEQUENCE:1816930
X-ACCESS:1
X-HITS:143
X-COLOR:2ca75f
X-SHOW-END-TIME:1
END:VEVENT
BEGIN:VEVENT
DTSTART;TZID=Europe/Berlin:20250918T160000
DTEND;TZID=Europe/Berlin:20250918T173000
UID:6342DE1C-9BEB-4D01-933E-DBEE43EB1F78
SUMMARY:Konfi-Treff
CREATED:20250902T082033Z
DTSTAMP:20250902T082033Z
URL:https://move.st-jakobus-vogtland.de/konfizeit-2025-27/konfi-treff-2
LAST-MODIFIED:20250916T102110Z
SEQUENCE:1216837
LOCATION:Egerstraße 8\, 08606 Oelsnitz i.V.\, Sachsen\, Deutschland
GEO:50.41346769;12.17328608
X-LOCATION-DISPLAYNAME:Oelsnitz, Katharinenkirche
X-ACCESS:1
X-HITS:204
X-COLOR:2ca75f
X-SHOW-END-TIME:1
END:VEVENT
BEGIN:VEVENT
DTSTART;TZID=Europe/Berlin:20250925T160000
DTEND;TZID=Europe/Berlin:20250925T173000
UID:E65889EC-2204-4595-A560-67E750FF4C06
SUMMARY:Konfi-Treff
CREATED:20250902T084834Z
DTSTAMP:20250902T084834Z
URL:https://move.st-jakobus-vogtland.de/konfizeit-2025-27/konfi-treff-3
LAST-MODIFIED:20250916T105316Z
SEQUENCE:1217082
LOCATION:Egerstraße 8\, 08606 Oelsnitz i.V.\, Sachsen\, Deutschland
GEO:50.41346769;12.17328608
X-LOCATION-DISPLAYNAME:Oelsnitz, Katharinenkirche
X-ACCESS:1
X-HITS:356
X-COLOR:2ca75f
X-SHOW-END-TIME:1
END:VEVENT
BEGIN:VEVENT
DTSTART;TZID=Europe/Berlin:20251002T160000
DTEND;TZID=Europe/Berlin:20251002T173000
UID:5D876DC1-7420-4FF3-9C1F-5E671F13871F
SUMMARY:Konfi-Treff
CREATED:20250902T085621Z
DTSTAMP:20250902T085621Z
URL:https://move.st-jakobus-vogtland.de/konfizeit-2025-27/konfi-treff-4
LAST-MODIFIED:20250916T105407Z
SEQUENCE:1216666
LOCATION:Egerstraße 8\, 08606 Oelsnitz i.V.\, Sachsen\, Deutschland
GEO:50.41346769;12.17328608
X-LOCATION-DISPLAYNAME:Oelsnitz, Katharinenkirche
X-ACCESS:1
X-HITS:346
X-COLOR:2ca75f
X-SHOW-END-TIME:1
END:VEVENT
BEGIN:VEVENT
DTSTART;VALUE=DATE:20251012
DTEND;VALUE=DATE:20251017
UID:559B93BC-4288-4C92-8DD6-DF52AA136BF2
SUMMARY:Rüstzeit  
CREATED:20250902T100541Z
DTSTAMP:20250902T100541Z
URL:https://move.st-jakobus-vogtland.de/konfizeit-2025-27/ruestzeit
LAST-MODIFIED:20250902T104054Z
SEQUENCE:2113
X-ACCESS:1
X-HITS:199
X-COLOR:6a1b9a
X-SHOW-END-TIME:1
END:VEVENT
BEGIN:VEVENT
DTSTART;VALUE=DATE:20251019
DTEND;VALUE=DATE:20251109
UID:098927DE-9DC4-4FAD-BF5B-7E5E8290BCC5
SUMMARY:Godi-Zeit
CREATED:20250814T082802Z
DTSTAMP:20250814T082802Z
URL:https://move.st-jakobus-vogtland.de/konfizeit-2025-27/godi-zeit
LAST-MODIFIED:20250814T082838Z
SEQUENCE:36
LOCATION:
GEO:0.00000000;0.00000000
X-LOCATION-DISPLAYNAME:vor Ort
X-ACCESS:1
X-HITS:493
X-COLOR:6a1b9a
X-SHOW-END-TIME:1
END:VEVENT
BEGIN:VEVENT
DTSTART;TZID=Europe/Berlin:20251026T093000
DTEND;TZID=Europe/Berlin:20251026T103000
UID:E0CFD6FD-74C7-4036-B789-E13FD57C34EC
SUMMARY:Godi-Praxiszeit
CREATED:20251007T083312Z
DTSTAMP:20251007T083312Z
URL:https://move.st-jakobus-vogtland.de/konfizeit-2025-27/godi-praxiszeit
LAST-MODIFIED:20251007T083312Z
SEQUENCE:0
LOCATION:Am Bahnhof\, 08538 Kürbitz\, Sachsen\, Deutschland
GEO:50.46361450;12.07169190
X-LOCATION-DISPLAYNAME:Kürbitz
X-ACCESS:1
X-HITS:328
X-COLOR:6a1b9a
X-SHOW-END-TIME:1
END:VEVENT
BEGIN:VEVENT
DTSTART;TZID=Europe/Berlin:20251026T093000
DTEND;TZID=Europe/Berlin:20251026T103000
UID:24952555-9384-4C8B-882F-7E3001B5EA71
SUMMARY:Godi-Praxiszeit
CREATED:20251007T083507Z
DTSTAMP:20251007T083507Z
URL:https://move.st-jakobus-vogtland.de/konfizeit-2025-27/godi-praxiszeit-2
LAST-MODIFIED:20251007T083512Z
SEQUENCE:5
X-ACCESS:1
X-HITS:157
X-COLOR:6a1b9a
X-SHOW-END-TIME:1
END:VEVENT
BEGIN:VEVENT
DTSTART;TZID=Europe/Berlin:20251026T093000
DTEND;TZID=Europe/Berlin:20251026T103000
UID:F1AD9CFE-66FF-4947-9013-0EC2549B8185
SUMMARY:Godi-Praxiszeit
CREATED:20251007T084113Z
DTSTAMP:20251007T084113Z
URL:https://move.st-jakobus-vogtland.de/konfizeit-2025-27/godi-praxiszeit-3
LAST-MODIFIED:20251007T084113Z
SEQUENCE:0
X-ACCESS:1
X-HITS:160
X-COLOR:6a1b9a
X-SHOW-END-TIME:1
END:VEVENT
BEGIN:VEVENT
DTSTART;TZID=Europe/Berlin:20251026T100000
DTEND;TZID=Europe/Berlin:20251026T110000
UID:5C8379E3-D85D-4B54-8CF7-D9A5A97986B1
SUMMARY:Godi-Praxiszeit
CREATED:20251007T084223Z
DTSTAMP:20251007T084223Z
URL:https://move.st-jakobus-vogtland.de/konfizeit-2025-27/godi-praxiszeit-4
LAST-MODIFIED:20251007T084223Z
SEQUENCE:0
X-ACCESS:1
X-HITS:157
X-COLOR:6a1b9a
X-SHOW-END-TIME:1
END:VEVENT
BEGIN:VEVENT
DTSTART;TZID=Europe/Berlin:20251114T180000
DTEND;TZID=Europe/Berlin:20251114T200000
UID:4D2DFA97-1494-48DF-97E9-3CBB0C48EDF1
SUMMARY:Jukon
CREATED:20250902T105136Z
DTSTAMP:20250902T105136Z
URL:https://move.st-jakobus-vogtland.de/konfizeit-2025-27/jukon-4
LAST-MODIFIED:20250902T105136Z
SEQUENCE:0
X-ACCESS:1
X-HITS:237
X-COLOR:6a1b9a
X-SHOW-END-TIME:1
END:VEVENT
BEGIN:VEVENT
DTSTART;VALUE=DATE:20251116
DTEND;VALUE=DATE:20251123
UID:264A40A3-C04F-4954-AE31-790A8B2FB287
SUMMARY:Godi-Zeit
CREATED:20250902T105258Z
DTSTAMP:20250902T105258Z
URL:https://move.st-jakobus-vogtland.de/konfizeit-2025-27/godi-zeit-2
LAST-MODIFIED:20250902T105258Z
SEQUENCE:0
X-ACCESS:1
X-HITS:257
X-COLOR:6a1b9a
X-SHOW-END-TIME:1
END:VEVENT
BEGIN:VEVENT
DTSTART;TZID=Europe/Berlin:20251127T160000
DTEND;TZID=Europe/Berlin:20251127T173000
UID:CE51EE7D-A46E-42CB-9EB0-5D2CEBD51BE8
SUMMARY:Advents-Party
CREATED:20250902T105334Z
DTSTAMP:20250902T105334Z
URL:https://move.st-jakobus-vogtland.de/konfizeit-2025-27/advents-party-2
LAST-MODIFIED:20250902T105334Z
SEQUENCE:0
X-ACCESS:1
X-HITS:285
X-COLOR:6a1b9a
X-SHOW-END-TIME:1
END:VEVENT
BEGIN:VEVENT
DTSTART;TZID=Europe/Berlin:20251204T160000
DTEND;TZID=Europe/Berlin:20251204T173000
UID:CF190828-DE69-4519-A089-F38E1C21AC28
SUMMARY:Konfi-Treff
CREATED:20250902T105414Z
DTSTAMP:20250902T105414Z
URL:https://move.st-jakobus-vogtland.de/konfizeit-2025-27/konfi-treff-11
LAST-MODIFIED:20250904T090119Z
SEQUENCE:166025
X-ACCESS:1
X-HITS:303
X-COLOR:2ca75f
X-SHOW-END-TIME:1
END:VEVENT
BEGIN:VEVENT
DTSTART;TZID=Europe/Berlin:20251211T160000
DTEND;TZID=Europe/Berlin:20251211T173000
UID:B7213BDC-7223-4A2D-B3BB-0613D4F61E57
SUMMARY:Konfi-Treff
CREATED:20250902T105444Z
DTSTAMP:20250902T105444Z
URL:https://move.st-jakobus-vogtland.de/konfizeit-2025-27/konfi-treff-12
LAST-MODIFIED:20250904T090121Z
SEQUENCE:165997
X-ACCESS:1
X-HITS:320
X-COLOR:2ca75f
X-SHOW-END-TIME:1
END:VEVENT
BEGIN:VEVENT
DTSTART;TZID=Europe/Berlin:20251218T160000
DTEND;TZID=Europe/Berlin:20251218T173000
UID:E3A444B0-1D4D-4359-8050-40D16AE9FF0A
SUMMARY:Konfi-Treff
CREATED:20250902T105513Z
DTSTAMP:20250902T105513Z
URL:https://move.st-jakobus-vogtland.de/konfizeit-2025-27/konfi-treff-13
LAST-MODIFIED:20250904T090124Z
SEQUENCE:165971
X-ACCESS:1
X-HITS:307
X-COLOR:2ca75f
X-SHOW-END-TIME:1
END:VEVENT
BEGIN:VEVENT
DTSTART;TZID=Europe/Berlin:20260108T160000
DTEND;TZID=Europe/Berlin:20260108T173000
UID:008D3263-E632-4E98-B8BF-E55BD9729523
SUMMARY:Konfi-Treff
CREATED:20250902T105546Z
DTSTAMP:20250902T105546Z
URL:https://move.st-jakobus-vogtland.de/konfizeit-2025-27/konfi-treff-14
LAST-MODIFIED:20250904T090127Z
SEQUENCE:165941
X-ACCESS:1
X-HITS:314
X-COLOR:2ca75f
X-SHOW-END-TIME:1
END:VEVENT
BEGIN:VEVENT
DTSTART;VALUE=DATE:20260111
DTEND;VALUE=DATE:20260118
UID:24501CCF-8C56-403F-90C9-2DF6DF6EDA1E
SUMMARY:WWR (Winterwohnzimmerrunde)
CREATED:20250902T111030Z
DTSTAMP:20250902T111030Z
URL:https://move.st-jakobus-vogtland.de/konfizeit-2025-27/wwr-winterwohnzimmerrunde
LAST-MODIFIED:20250902T111030Z
SEQUENCE:0
X-ACCESS:1
X-HITS:408
X-COLOR:6a1b9a
X-SHOW-END-TIME:1
END:VEVENT
BEGIN:VEVENT
DTSTART;TZID=Europe/Berlin:20260116T180000
DTEND;TZID=Europe/Berlin:20260116T200000
UID:D7F2298C-14EC-4E0E-AD7A-745ADC5490C4
SUMMARY:Jukon
CREATED:20250902T111059Z
DTSTAMP:20250902T111059Z
URL:https://move.st-jakobus-vogtland.de/konfizeit-2025-27/jukon-5
DESCRIPTION:Kommt vorbei!
X-ALT-DESC;FMTTYPE=text/html:<p>Kommt vorbei!</p>
LAST-MODIFIED:20251219T114903Z
SEQUENCE:9333484
X-ACCESS:1
X-HITS:313
X-COLOR:6a1b9a
X-IMAGE-INTRO:https://move.st-jakobus-vogtland.de/images/banners/AdobeStock_84832757.jpeg
X-SHOW-END-TIME:1
END:VEVENT
BEGIN:VEVENT
DTSTART;VALUE=DATE:20260125
DTEND;VALUE=DATE:20260201
UID:09097308-61C9-4791-94EE-F367EC069907
SUMMARY:WWR (Winterwohnzimmerrunde)
CREATED:20250902T111859Z
DTSTAMP:20250902T111859Z
URL:https://move.st-jakobus-vogtland.de/konfizeit-2025-27/wwr-winterwohnzimmerrunde-2
LAST-MODIFIED:20250902T111859Z
SEQUENCE:0
X-ACCESS:1
X-HITS:355
X-COLOR:6a1b9a
X-SHOW-END-TIME:1
END:VEVENT
BEGIN:VEVENT
DTSTART;VALUE=DATE:20260201
DTEND;VALUE=DATE:20260208
UID:D18A8BB4-9304-4E35-A00D-80267B509A9E
SUMMARY:WWR (Winterwohnzimmerrunde)
CREATED:20250902T111933Z
DTSTAMP:20250902T111933Z
URL:https://move.st-jakobus-vogtland.de/konfizeit-2025-27/wwr-winterwohnzimmerrunde-3
LAST-MODIFIED:20250902T111933Z
SEQUENCE:0
X-ACCESS:1
X-HITS:309
X-COLOR:6a1b9a
X-SHOW-END-TIME:1
END:VEVENT
BEGIN:VEVENT
DTSTART;TZID=Europe/Berlin:20260205T160000
DTEND;TZID=Europe/Berlin:20260205T173000
UID:B159F496-00D0-4696-9D77-765F0D4928CE
SUMMARY:Konfi-Treff
CREATED:20250902T112001Z
DTSTAMP:20250902T112001Z
URL:https://move.st-jakobus-vogtland.de/konfizeit-2025-27/konfi-treff-15
LAST-MODIFIED:20250904T090149Z
SEQUENCE:164508
X-ACCESS:1
X-HITS:315
X-COLOR:2ca75f
X-SHOW-END-TIME:1
END:VEVENT
BEGIN:VEVENT
DTSTART;TZID=Europe/Berlin:20260226T160000
DTEND;TZID=Europe/Berlin:20260226T173000
UID:EA84A6CB-6DA1-4B0F-8CC8-3F4DB454176F
SUMMARY:Konfi-Treff
CREATED:20250902T112036Z
DTSTAMP:20250902T112036Z
URL:https://move.st-jakobus-vogtland.de/konfizeit-2025-27/konfi-treff-16
LAST-MODIFIED:20250904T090151Z
SEQUENCE:164475
X-ACCESS:1
X-HITS:357
X-COLOR:2ca75f
X-SHOW-END-TIME:1
END:VEVENT
BEGIN:VEVENT
DTSTART;VALUE=DATE:20260306
DTEND;VALUE=DATE:20260309
UID:BE7C0F8B-CF65-4677-A433-E0A1A6798FD4
SUMMARY:Rüstzeit  
CREATED:20250902T112120Z
DTSTAMP:20250902T112120Z
URL:https://move.st-jakobus-vogtland.de/konfizeit-2025-27/ruestzeit-4
LAST-MODIFIED:20250902T112120Z
SEQUENCE:0
X-ACCESS:1
X-HITS:417
X-COLOR:6a1b9a
X-SHOW-END-TIME:1
END:VEVENT
BEGIN:VEVENT
DTSTART;VALUE=DATE:20260315
DTEND;VALUE=DATE:20260405
UID:3CFEC120-F5F7-4B04-ACA7-AD1BFE5277B5
SUMMARY:Praktikum
CREATED:20250902T113346Z
DTSTAMP:20250902T113346Z
URL:https://move.st-jakobus-vogtland.de/konfizeit-2025-27/praktikum
LAST-MODIFIED:20250902T113346Z
SEQUENCE:0
X-ACCESS:1
X-HITS:428
X-COLOR:6a1b9a
X-SHOW-END-TIME:1
END:VEVENT
BEGIN:VEVENT
DTSTART;TZID=Europe/Berlin:20260402T170000
DTEND;TZID=Europe/Berlin:20260402T183000
UID:C4C16126-40B3-45E2-910E-EECEE1992F6D
SUMMARY:Erstabendmahl
CREATED:20250902T113447Z
DTSTAMP:20250902T113447Z
URL:https://move.st-jakobus-vogtland.de/konfizeit-2025-27/erstabendmahl
LAST-MODIFIED:20250902T113447Z
SEQUENCE:0
X-ACCESS:1
X-HITS:414
X-COLOR:6a1b9a
X-SHOW-END-TIME:1
END:VEVENT
BEGIN:VEVENT
DTSTART;TZID=Europe/Berlin:20260417T180000
DTEND;TZID=Europe/Berlin:20260417T200000
UID:47E5C308-3E46-4CF3-900C-4B1408B0A977
SUMMARY:Jukon
CREATED:20250902T113556Z
DTSTAMP:20250902T113556Z
URL:https://move.st-jakobus-vogtland.de/konfizeit-2025-27/jukon-6
LAST-MODIFIED:20250902T113556Z
SEQUENCE:0
X-ACCESS:1
X-HITS:356
X-COLOR:6a1b9a
X-SHOW-END-TIME:1
END:VEVENT
BEGIN:VEVENT
DTSTART;VALUE=DATE:20260426
DTEND;VALUE=DATE:20260503
UID:147558BA-D0A0-465A-9FC4-F7A82D4CD986
SUMMARY:Praktikum
CREATED:20250902T113728Z
DTSTAMP:20250902T113728Z
URL:https://move.st-jakobus-vogtland.de/konfizeit-2025-27/praktikum-2
LAST-MODIFIED:20250902T113728Z
SEQUENCE:0
X-ACCESS:1
X-HITS:444
X-COLOR:6a1b9a
X-SHOW-END-TIME:1
END:VEVENT
BEGIN:VEVENT
DTSTART;TZID=Europe/Berlin:20260430T160000
DTEND;TZID=Europe/Berlin:20260430T173000
UID:03B7404A-C1A6-47F9-A33C-786215938B08
SUMMARY:Konfi-Treff
CREATED:20250902T113821Z
DTSTAMP:20250902T113821Z
URL:https://move.st-jakobus-vogtland.de/konfizeit-2025-27/konfi-treff-17
LAST-MODIFIED:20250904T090154Z
SEQUENCE:163413
X-ACCESS:1
X-HITS:384
X-COLOR:2ca75f
X-SHOW-END-TIME:1
END:VEVENT
BEGIN:VEVENT
DTSTART;TZID=Europe/Berlin:20260507T160000
DTEND;TZID=Europe/Berlin:20260507T173000
UID:B14C942D-8447-4786-B392-5FF01BE8BBD5
SUMMARY:Konfi-Treff
CREATED:20250902T113905Z
DTSTAMP:20250902T113905Z
URL:https://move.st-jakobus-vogtland.de/konfizeit-2025-27/konfi-treff-18
LAST-MODIFIED:20250904T090156Z
SEQUENCE:163371
X-ACCESS:1
X-HITS:434
X-COLOR:2ca75f
X-SHOW-END-TIME:1
END:VEVENT
BEGIN:VEVENT
DTSTART;VALUE=DATE:20260514
DTEND;VALUE=DATE:20260515
UID:A5F72D0D-1482-4505-BB7A-3911DF00FE32
SUMMARY:Himmelfahrt
CREATED:20250902T114002Z
DTSTAMP:20250902T114002Z
URL:https://move.st-jakobus-vogtland.de/konfizeit-2025-27/himmelfahrt
LAST-MODIFIED:20250902T114002Z
SEQUENCE:0
X-ACCESS:1
X-HITS:405
X-COLOR:6a1b9a
X-SHOW-END-TIME:1
END:VEVENT
BEGIN:VEVENT
DTSTART;TZID=Europe/Berlin:20260521T160000
DTEND;TZID=Europe/Berlin:20260521T173000
UID:9DCB3C01-ADAF-4A32-8FD8-0E429835657C
SUMMARY:Konfi-Treff
CREATED:20250902T114041Z
DTSTAMP:20250902T114041Z
URL:https://move.st-jakobus-vogtland.de/konfizeit-2025-27/konfi-treff-19
LAST-MODIFIED:20250904T090158Z
SEQUENCE:163277
X-ACCESS:1
X-HITS:440
X-COLOR:2ca75f
X-SHOW-END-TIME:1
END:VEVENT
BEGIN:VEVENT
DTSTART;TZID=Europe/Berlin:20260528T160000
DTEND;TZID=Europe/Berlin:20260528T173000
UID:7BACBA04-D552-4F1C-A5CF-EE1E1820F7FA
SUMMARY:Konfi-Treff
CREATED:20250902T114215Z
DTSTAMP:20250902T114215Z
URL:https://move.st-jakobus-vogtland.de/konfizeit-2025-27/konfi-treff-20
LAST-MODIFIED:20250904T090201Z
SEQUENCE:163186
X-ACCESS:1
X-HITS:416
X-COLOR:2ca75f
X-SHOW-END-TIME:1
END:VEVENT
BEGIN:VEVENT
DTSTART;TZID=Europe/Berlin:20260604T160000
DTEND;TZID=Europe/Berlin:20260604T173000
UID:BDE4099E-E5F3-4637-892C-57F9A2A4CDB9
SUMMARY:Konfi-Treff
CREATED:20250902T114313Z
DTSTAMP:20250902T114313Z
URL:https://move.st-jakobus-vogtland.de/konfizeit-2025-27/konfi-treff-21
LAST-MODIFIED:20250904T090204Z
SEQUENCE:163131
X-ACCESS:1
X-HITS:385
X-COLOR:2ca75f
X-SHOW-END-TIME:1
END:VEVENT
BEGIN:VEVENT
DTSTART;TZID=Europe/Berlin:20260611T160000
DTEND;TZID=Europe/Berlin:20260611T173000
UID:82289693-4C33-4237-AF41-D06EA2BB56D1
SUMMARY:Konfi-Treff
CREATED:20250902T114344Z
DTSTAMP:20250902T114344Z
URL:https://move.st-jakobus-vogtland.de/konfizeit-2025-27/konfi-treff-22
LAST-MODIFIED:20250904T090206Z
SEQUENCE:163102
X-ACCESS:1
X-HITS:382
X-COLOR:2ca75f
X-SHOW-END-TIME:1
END:VEVENT
BEGIN:VEVENT
DTSTART;TZID=Europe/Berlin:20260618T160000
DTEND;TZID=Europe/Berlin:20260618T173000
UID:43652241-3A38-49A4-95A1-034629B20659
SUMMARY:Konfi-Treff
CREATED:20250902T114417Z
DTSTAMP:20250902T114417Z
URL:https://move.st-jakobus-vogtland.de/konfizeit-2025-27/konfi-treff-23
LAST-MODIFIED:20250904T090209Z
SEQUENCE:163072
X-ACCESS:1
X-HITS:405
X-COLOR:2ca75f
X-SHOW-END-TIME:1
END:VEVENT
BEGIN:VEVENT
DTSTART;TZID=Europe/Berlin:20260625T160000
DTEND;TZID=Europe/Berlin:20260625T173000
UID:18D15C41-4293-4ADB-9E21-E5C2ADF700E0
SUMMARY:Konfi-Treff
CREATED:20250902T114444Z
DTSTAMP:20250902T114444Z
URL:https://move.st-jakobus-vogtland.de/konfizeit-2025-27/konfi-treff-24
LAST-MODIFIED:20250904T090146Z
SEQUENCE:163022
X-ACCESS:1
X-HITS:406
X-COLOR:2ca75f
X-SHOW-END-TIME:1
END:VEVENT
BEGIN:VEVENT
DTSTART;TZID=Europe/Berlin:20260702T160000
DTEND;TZID=Europe/Berlin:20260702T173000
UID:DFC7D3AD-527A-4F30-A9CF-2BA6FF3B3365
SUMMARY:Konfi-Treff
CREATED:20250902T114510Z
DTSTAMP:20250902T114510Z
URL:https://move.st-jakobus-vogtland.de/konfizeit-2025-27/konfi-treff-25
LAST-MODIFIED:20250904T090025Z
SEQUENCE:162915
X-ACCESS:1
X-HITS:400
X-COLOR:2ca75f
X-SHOW-END-TIME:1
END:VEVENT
END:VCALENDAR