BEGIN:VCALENDAR
VERSION:2.0
PRODID:DPCALENDAR
CALSCALE:GREGORIAN
BEGIN:VTIMEZONE
TZID:Europe/Berlin
X-MICROSOFT-CDO-TZID:4
BEGIN:STANDARD
DTSTART:20251026T010000
TZOFFSETFROM:+0200
TZOFFSETTO:+0100
TZNAME:CET
END:STANDARD
BEGIN:STANDARD
DTSTART:20261025T010000
TZOFFSETFROM:+0200
TZOFFSETTO:+0100
TZNAME:CET
END:STANDARD
BEGIN:DAYLIGHT
DTSTART:20260329T010000
TZOFFSETFROM:+0100
TZOFFSETTO:+0200
TZNAME:CEST
END:DAYLIGHT
END:VTIMEZONE
X-WR-TIMEZONE:Europe/Berlin
BEGIN:VEVENT
DTSTART;TZID=Europe/Berlin:20250904T160000
DTEND;TZID=Europe/Berlin:20250904T173000
UID:C62A801E-9431-41EC-BA9A-22C4F603F087
SUMMARY:Konfi-Treff
CREATED:20250902T101149Z
DTSTAMP:20250902T101149Z
URL:https://move.st-jakobus-vogtland.de/component/dpcalendar/event/8?calid=11
LAST-MODIFIED:20250904T090012Z
SEQUENCE:168503
X-ACCESS:1
X-HITS:6
X-COLOR:2ca75f
X-SHOW-END-TIME:1
END:VEVENT
BEGIN:VEVENT
DTSTART;VALUE=DATE:20250907
DTEND;VALUE=DATE:20250914
UID:6B35861D-24D2-4615-9E03-7CFE3453D66F
SUMMARY:JG-Zeit
CREATED:20250902T100954Z
DTSTAMP:20250902T100954Z
URL:https://move.st-jakobus-vogtland.de/component/dpcalendar/event/7?calid=11
LAST-MODIFIED:20250904T090319Z
SEQUENCE:168805
X-ACCESS:1
X-HITS:150
X-COLOR:db1d29
X-SHOW-END-TIME:1
END:VEVENT
BEGIN:VEVENT
DTSTART;VALUE=DATE:20250914
DTEND;VALUE=DATE:20250921
UID:9C7D45B7-8598-48CC-A5E5-04523E63EBBD
SUMMARY:JG-Zeit
CREATED:20250902T101400Z
DTSTAMP:20250902T101400Z
URL:https://move.st-jakobus-vogtland.de/component/dpcalendar/event/9?calid=11
LAST-MODIFIED:20250904T090325Z
SEQUENCE:168565
X-ACCESS:1
X-HITS:180
X-COLOR:db1d29
X-SHOW-END-TIME:1
END:VEVENT
BEGIN:VEVENT
DTSTART;VALUE=DATE:20250921
DTEND;VALUE=DATE:20250928
UID:03787BC8-412A-4905-BC82-062A15EAFBDE
SUMMARY:JG-Zeit
CREATED:20250902T101549Z
DTSTAMP:20250902T101549Z
URL:https://move.st-jakobus-vogtland.de/component/dpcalendar/event/10?calid=11
LAST-MODIFIED:20250904T090330Z
SEQUENCE:168461
X-ACCESS:1
X-HITS:176
X-COLOR:db1d29
X-SHOW-END-TIME:1
END:VEVENT
BEGIN:VEVENT
DTSTART;VALUE=DATE:20250928
DTEND;VALUE=DATE:20251005
UID:55D93F88-CD27-40F5-BB11-07162C08980C
SUMMARY:JG-Zeit
CREATED:20250902T101615Z
DTSTAMP:20250902T101615Z
URL:https://move.st-jakobus-vogtland.de/component/dpcalendar/event/11?calid=11
LAST-MODIFIED:20250904T090334Z
SEQUENCE:168439
X-ACCESS:1
X-HITS:168
X-COLOR:db1d29
X-SHOW-END-TIME:1
END:VEVENT
BEGIN:VEVENT
DTSTART;VALUE=DATE:20251012
DTEND;VALUE=DATE:20251017
UID:6C56C184-20C2-4568-9D31-657DDEED425F
SUMMARY:Rüstzeit  
CREATED:20250902T101652Z
DTSTAMP:20250902T101652Z
URL:https://move.st-jakobus-vogtland.de/component/dpcalendar/event/12?calid=11
LAST-MODIFIED:20250902T101652Z
SEQUENCE:0
X-ACCESS:1
X-HITS:195
X-COLOR:003d82
X-SHOW-END-TIME:1
END:VEVENT
BEGIN:VEVENT
DTSTART;TZID=Europe/Berlin:20251023T160000
DTEND;TZID=Europe/Berlin:20251023T173000
UID:EE0CE3F1-4CB5-492A-B09F-42495016F615
SUMMARY:Konfi-Treff
CREATED:20250902T101806Z
DTSTAMP:20250902T101806Z
URL:https://move.st-jakobus-vogtland.de/component/dpcalendar/event/13?calid=11
LAST-MODIFIED:20250904T090047Z
SEQUENCE:168161
X-ACCESS:1
X-HITS:219
X-COLOR:2ca75f
X-SHOW-END-TIME:1
END:VEVENT
BEGIN:VEVENT
DTSTART;TZID=Europe/Berlin:20251030T160000
DTEND;TZID=Europe/Berlin:20251030T173000
UID:C69BF165-E3C3-4B50-B419-C3D7D9296693
SUMMARY:Konfi-Treff
CREATED:20250902T101832Z
DTSTAMP:20250902T101832Z
URL:https://move.st-jakobus-vogtland.de/component/dpcalendar/event/14?calid=11
LAST-MODIFIED:20250904T090056Z
SEQUENCE:168144
X-ACCESS:1
X-HITS:211
X-COLOR:2ca75f
X-SHOW-END-TIME:1
END:VEVENT
BEGIN:VEVENT
DTSTART;TZID=Europe/Berlin:20251106T160000
DTEND;TZID=Europe/Berlin:20251106T173000
UID:F3DA2FB5-E2B1-417F-9461-DB5554484230
SUMMARY:Konfi-Treff
CREATED:20250902T101903Z
DTSTAMP:20250902T101903Z
URL:https://move.st-jakobus-vogtland.de/component/dpcalendar/event/15?calid=11
LAST-MODIFIED:20250904T090100Z
SEQUENCE:168117
X-ACCESS:1
X-HITS:428
X-COLOR:2ca75f
X-SHOW-END-TIME:1
END:VEVENT
BEGIN:VEVENT
DTSTART;TZID=Europe/Berlin:20251114T180000
DTEND;TZID=Europe/Berlin:20251114T200000
UID:B230B957-CF27-48C1-BAB1-E6AABA210036
SUMMARY:Jukon
CREATED:20250902T101949Z
DTSTAMP:20250902T101949Z
URL:https://move.st-jakobus-vogtland.de/component/dpcalendar/event/16?calid=11
LAST-MODIFIED:20250902T101949Z
SEQUENCE:0
X-ACCESS:1
X-HITS:241
X-COLOR:003d82
X-SHOW-END-TIME:1
END:VEVENT
BEGIN:VEVENT
DTSTART;TZID=Europe/Berlin:20251120T160000
DTEND;TZID=Europe/Berlin:20251120T173000
UID:CCCE66FB-2AF6-4E86-8397-3A71E572292E
SUMMARY:Konfi-Treff
CREATED:20250902T102024Z
DTSTAMP:20250902T102024Z
URL:https://move.st-jakobus-vogtland.de/component/dpcalendar/event/17?calid=11
LAST-MODIFIED:20250904T090116Z
SEQUENCE:168052
X-ACCESS:1
X-HITS:392
X-COLOR:2ca75f
X-SHOW-END-TIME:1
END:VEVENT
BEGIN:VEVENT
DTSTART;TZID=Europe/Berlin:20251127T160000
DTEND;TZID=Europe/Berlin:20251127T173000
UID:3FDF87EC-D8C7-4899-91B8-19D2E23C8BDE
SUMMARY:Advents-Party
CREATED:20250902T102159Z
DTSTAMP:20250902T102159Z
URL:https://move.st-jakobus-vogtland.de/component/dpcalendar/event/18?calid=11
LAST-MODIFIED:20250902T102159Z
SEQUENCE:0
X-ACCESS:1
X-HITS:271
X-COLOR:003d82
X-SHOW-END-TIME:1
END:VEVENT
BEGIN:VEVENT
DTSTART;VALUE=DATE:20251130
DTEND;VALUE=DATE:20251207
UID:376279EE-CB88-4E44-8205-FE93A972B838
SUMMARY:Krippenspiel
CREATED:20250902T102344Z
DTSTAMP:20250902T102344Z
URL:https://move.st-jakobus-vogtland.de/component/dpcalendar/event/19?calid=11
LAST-MODIFIED:20250902T104751Z
SEQUENCE:1447
X-ACCESS:1
X-HITS:361
X-COLOR:003d82
X-SHOW-END-TIME:1
END:VEVENT
BEGIN:VEVENT
DTSTART;VALUE=DATE:20251207
DTEND;VALUE=DATE:20251214
UID:020E8FDF-8AC7-4C47-8E52-BDA5843C49D1
SUMMARY:Krippenspiel
CREATED:20250902T102417Z
DTSTAMP:20250902T102417Z
URL:https://move.st-jakobus-vogtland.de/component/dpcalendar/event/20?calid=11
LAST-MODIFIED:20250902T104803Z
SEQUENCE:1426
X-ACCESS:1
X-HITS:306
X-COLOR:003d82
X-SHOW-END-TIME:1
END:VEVENT
BEGIN:VEVENT
DTSTART;VALUE=DATE:20251214
DTEND;VALUE=DATE:20251221
UID:BD7A14DC-A991-4B7F-BECD-A0E61A57814E
SUMMARY:Krippenspiel
CREATED:20250902T102442Z
DTSTAMP:20250902T102442Z
URL:https://move.st-jakobus-vogtland.de/component/dpcalendar/event/21?calid=11
LAST-MODIFIED:20250902T104812Z
SEQUENCE:1410
X-ACCESS:1
X-HITS:417
X-COLOR:003d82
X-SHOW-END-TIME:1
END:VEVENT
BEGIN:VEVENT
DTSTART;TZID=Europe/Berlin:20260116T180000
DTEND;TZID=Europe/Berlin:20260116T200000
UID:6A6B7F20-C2D6-4760-8278-BC66165E38E7
SUMMARY:Jukon
CREATED:20250902T102554Z
DTSTAMP:20250902T102554Z
URL:https://move.st-jakobus-vogtland.de/component/dpcalendar/event/22?calid=11
LAST-MODIFIED:20250902T102554Z
SEQUENCE:0
X-ACCESS:1
X-HITS:330
X-COLOR:003d82
X-SHOW-END-TIME:1
END:VEVENT
BEGIN:VEVENT
DTSTART;TZID=Europe/Berlin:20260122T160000
DTEND;TZID=Europe/Berlin:20260122T173000
UID:F0D0A7C5-B892-4904-AF2B-5866062B16A5
SUMMARY:Konfi-Treff
CREATED:20250902T102628Z
DTSTAMP:20250902T102628Z
URL:https://move.st-jakobus-vogtland.de/component/dpcalendar/event/23?calid=11
LAST-MODIFIED:20250904T090217Z
SEQUENCE:167749
X-ACCESS:1
X-HITS:354
X-COLOR:2ca75f
X-SHOW-END-TIME:1
END:VEVENT
BEGIN:VEVENT
DTSTART;TZID=Europe/Berlin:20260130T120000
DTEND;TZID=Europe/Berlin:20260201T130000
UID:56B333AB-30F5-4462-B42A-49C74993C49D
SUMMARY:Rüstzeit  
CREATED:20250902T102739Z
DTSTAMP:20250902T102739Z
URL:https://move.st-jakobus-vogtland.de/component/dpcalendar/event/24?calid=11
LAST-MODIFIED:20250902T104830Z
SEQUENCE:1251
X-ACCESS:1
X-HITS:371
X-COLOR:003d82
X-SHOW-END-TIME:1
END:VEVENT
BEGIN:VEVENT
DTSTART;TZID=Europe/Berlin:20260305T160000
DTEND;TZID=Europe/Berlin:20260305T173000
UID:3C04EA13-4940-411F-8AC0-79ED3E296646
SUMMARY:Konfi-Vorbereitung
CREATED:20250902T102833Z
DTSTAMP:20250902T102833Z
URL:https://move.st-jakobus-vogtland.de/component/dpcalendar/event/25?calid=11
LAST-MODIFIED:20250902T102833Z
SEQUENCE:0
X-ACCESS:1
X-HITS:360
X-COLOR:003d82
X-SHOW-END-TIME:1
END:VEVENT
BEGIN:VEVENT
DTSTART;TZID=Europe/Berlin:20260312T160000
DTEND;TZID=Europe/Berlin:20260312T173000
UID:F5942B45-8D07-490F-95CE-30B72E5A5B20
SUMMARY:Konfi-Vorbereitung
CREATED:20250902T102904Z
DTSTAMP:20250902T102904Z
URL:https://move.st-jakobus-vogtland.de/component/dpcalendar/event/26?calid=11
LAST-MODIFIED:20250902T102904Z
SEQUENCE:0
X-ACCESS:1
X-HITS:378
X-COLOR:003d82
X-SHOW-END-TIME:1
END:VEVENT
BEGIN:VEVENT
DTSTART;TZID=Europe/Berlin:20260319T160000
DTEND;TZID=Europe/Berlin:20260319T173000
UID:C6284BC8-6A52-4943-A70A-263951CF21E9
SUMMARY:Konfi-Vorbereitung
CREATED:20250902T102932Z
DTSTAMP:20250902T102932Z
URL:https://move.st-jakobus-vogtland.de/component/dpcalendar/event/27?calid=11
LAST-MODIFIED:20250902T102932Z
SEQUENCE:0
X-ACCESS:1
X-HITS:386
X-COLOR:003d82
X-SHOW-END-TIME:1
END:VEVENT
BEGIN:VEVENT
DTSTART;TZID=Europe/Berlin:20260326T160000
DTEND;TZID=Europe/Berlin:20260326T173000
UID:5CE24EF8-7BBA-4A9D-9608-29843D43A988
SUMMARY:Konfi-Vorbereitung
CREATED:20250902T102958Z
DTSTAMP:20250902T102958Z
URL:https://move.st-jakobus-vogtland.de/component/dpcalendar/event/28?calid=11
LAST-MODIFIED:20250902T102958Z
SEQUENCE:0
X-ACCESS:1
X-HITS:440
X-COLOR:003d82
X-SHOW-END-TIME:1
END:VEVENT
BEGIN:VEVENT
DTSTART;TZID=Europe/Berlin:20260402T170000
DTEND;TZID=Europe/Berlin:20260402T183000
UID:92FC13B3-98D5-4644-8540-A4879BD7DAA4
SUMMARY:Gründonnerstag Abendmahl
CREATED:20250902T103105Z
DTSTAMP:20250902T103105Z
URL:https://move.st-jakobus-vogtland.de/component/dpcalendar/event/29?calid=11
LAST-MODIFIED:20250902T103105Z
SEQUENCE:0
X-ACCESS:1
X-HITS:376
X-COLOR:003d82
X-SHOW-END-TIME:1
END:VEVENT
BEGIN:VEVENT
DTSTART;TZID=Europe/Berlin:20260417T180000
DTEND;TZID=Europe/Berlin:20260417T200000
UID:BFC92240-2BAD-4D71-810D-798C1D56E375
SUMMARY:Jukon
CREATED:20250902T103142Z
DTSTAMP:20250902T103142Z
URL:https://move.st-jakobus-vogtland.de/component/dpcalendar/event/30?calid=11
LAST-MODIFIED:20250902T103142Z
SEQUENCE:0
X-ACCESS:1
X-HITS:654
X-COLOR:003d82
X-SHOW-END-TIME:1
END:VEVENT
BEGIN:VEVENT
DTSTART;TZID=Europe/Berlin:20260423T160000
DTEND;TZID=Europe/Berlin:20260423T173000
UID:75A144E2-38BF-488B-BE57-0C79E1F3BC33
SUMMARY:Abschluss-Treff
CREATED:20250902T110738Z
DTSTAMP:20250902T110738Z
URL:https://move.st-jakobus-vogtland.de/component/dpcalendar/event/38?calid=11
LAST-MODIFIED:20250902T110738Z
SEQUENCE:0
X-ACCESS:1
X-HITS:436
X-COLOR:003d82
X-SHOW-END-TIME:1
END:VEVENT
END:VCALENDAR