BEGIN:VCALENDAR
VERSION:2.0
PRODID:DPCALENDAR
CALSCALE:GREGORIAN
BEGIN:VTIMEZONE
TZID:Europe/Berlin
X-MICROSOFT-CDO-TZID:4
BEGIN:STANDARD
DTSTART:20251026T010000
TZOFFSETFROM:+0200
TZOFFSETTO:+0100
TZNAME:CET
END:STANDARD
BEGIN:STANDARD
DTSTART:20261025T010000
TZOFFSETFROM:+0200
TZOFFSETTO:+0100
TZNAME:CET
END:STANDARD
BEGIN:DAYLIGHT
DTSTART:20260329T010000
TZOFFSETFROM:+0100
TZOFFSETTO:+0200
TZNAME:CEST
END:DAYLIGHT
END:VTIMEZONE
X-WR-TIMEZONE:Europe/Berlin
BEGIN:VEVENT
DTSTART;TZID=Europe/Berlin:20251026T083000
DTEND;TZID=Europe/Berlin:20251026T093000
UID:90D0328F-D917-48FB-B0B4-35F61BD36F5D
SUMMARY:Godi-Arnoldsgrün
CREATED:20251007T111917Z
DTSTAMP:20251007T111917Z
URL:https://move.st-jakobus-vogtland.de/component/dpcalendar/event/69?calid=12
LAST-MODIFIED:20251007T152038Z
SEQUENCE:14481
LOCATION:Kirchsteig  1A\, 08261 Arnoldsgrün
GEO:50.40936240;12.27660080
X-LOCATION-DISPLAYNAME:Marienkirche Arnoldsgrün
X-ACCESS:1
X-HITS:59
X-COLOR:cccfed
X-SHOW-END-TIME:1
END:VEVENT
BEGIN:VEVENT
DTSTART;TZID=Europe/Berlin:20251026T093000
DTEND;TZID=Europe/Berlin:20251026T103000
UID:6560B279-F310-47F7-8BAD-514BA57EB19D
SUMMARY:Godi-Geilsdorf
CREATED:20251007T110954Z
DTSTAMP:20251007T110954Z
URL:https://move.st-jakobus-vogtland.de/component/dpcalendar/event/66?calid=12
LAST-MODIFIED:20251007T152737Z
SEQUENCE:15463
LOCATION:Schloßstrasse\, 08538 Geilsdorf\, Sachsen
GEO:50.42790496;12.03540490
X-LOCATION-DISPLAYNAME:Geilsdorf, Kirche
X-ACCESS:1
X-HITS:36
X-COLOR:4641e0
X-SHOW-END-TIME:1
END:VEVENT
BEGIN:VEVENT
DTSTART;TZID=Europe/Berlin:20251026T093000
DTEND;TZID=Europe/Berlin:20251026T103000
UID:35E1D5A4-B532-4E74-B543-C1741E8785EE
SUMMARY:Godi-Sachsgrün
CREATED:20251007T111604Z
DTSTAMP:20251007T111604Z
URL:https://move.st-jakobus-vogtland.de/component/dpcalendar/event/67?calid=12
LAST-MODIFIED:20251007T144018Z
SEQUENCE:12254
LOCATION:Dorfstraße\, 08606 Sachsgrün\, Sachsen
GEO:50.34487147;12.02954525
X-LOCATION-DISPLAYNAME:Sachsgrün, St. Ägidius Kirche
X-ACCESS:1
X-HITS:57
X-COLOR:ffd166
X-SHOW-END-TIME:1
END:VEVENT
BEGIN:VEVENT
DTSTART;TZID=Europe/Berlin:20251026T093000
DTEND;TZID=Europe/Berlin:20251026T103000
UID:2C054E77-E280-43B9-B345-43269CEBF7F9
SUMMARY:Godi-Kürbitz
CREATED:20251007T144409Z
DTSTAMP:20251007T144409Z
URL:https://move.st-jakobus-vogtland.de/component/dpcalendar/event/78?calid=12
LAST-MODIFIED:20251007T153038Z
SEQUENCE:2789
LOCATION:Kirchplatz\, 08538 Weischlitz\, Sachsen
GEO:50.46206659;12.07380823
X-LOCATION-DISPLAYNAME:Kürbitz, Salvatorkirche
X-ACCESS:1
X-HITS:52
X-COLOR:2ae856
X-SHOW-END-TIME:1
END:VEVENT
BEGIN:VEVENT
DTSTART;TZID=Europe/Berlin:20251026T100000
DTEND;TZID=Europe/Berlin:20251026T110000
UID:9DC64152-E545-45FE-87F0-CFAB5548FD06
SUMMARY:Godi-Oelsnitz
CREATED:20251007T111701Z
DTSTAMP:20251007T111701Z
URL:https://move.st-jakobus-vogtland.de/component/dpcalendar/event/68?calid=12
LAST-MODIFIED:20251007T152535Z
SEQUENCE:14914
LOCATION:Kirchplatz 1\, 08606 Oelsnitz/Vogtl.
GEO:50.41480769;12.16961920
X-LOCATION-DISPLAYNAME:Oelsnitz, St. Jakobi Kirche
X-ACCESS:1
X-HITS:46
X-COLOR:eb9850
X-SHOW-END-TIME:1
END:VEVENT
BEGIN:VEVENT
DTSTART;TZID=Europe/Berlin:20251026T100000
DTEND;TZID=Europe/Berlin:20251026T110000
UID:BF10F505-2244-4611-B4BE-081B530CF757
SUMMARY:Godi-Tirpersdorf
CREATED:20251007T112003Z
DTSTAMP:20251007T112003Z
URL:https://move.st-jakobus-vogtland.de/component/dpcalendar/event/70?calid=12
LAST-MODIFIED:20251007T152050Z
SEQUENCE:14447
LOCATION:Am Anger\, 08606 Tirpersdorf\, Sachsen
GEO:50.43513000;12.25516000
X-LOCATION-DISPLAYNAME:Tirpersdorf, Kirche
X-ACCESS:1
X-HITS:40
X-COLOR:cccfed
X-SHOW-END-TIME:1
END:VEVENT
BEGIN:VEVENT
DTSTART;TZID=Europe/Berlin:20251026T100000
DTEND;TZID=Europe/Berlin:20251026T110000
UID:92DF59A6-C845-4F5B-B93B-B5B49835F8CF
SUMMARY:Godi-Schöneck
CREATED:20251007T112517Z
DTSTAMP:20251007T112517Z
URL:https://move.st-jakobus-vogtland.de/component/dpcalendar/event/71?calid=12
LAST-MODIFIED:20251007T152102Z
SEQUENCE:14145
X-ACCESS:1
X-HITS:41
X-COLOR:cccfed
X-SHOW-END-TIME:1
END:VEVENT
BEGIN:VEVENT
DTSTART;TZID=Europe/Berlin:20251031T160000
DTEND;TZID=Europe/Berlin:20251031T170000
UID:9C220519-33C8-4B36-B72A-177C7476C3B1
SUMMARY:Godi-Oelsnitz Reformationsfest
CREATED:20251007T112608Z
DTSTAMP:20251007T112608Z
URL:https://move.st-jakobus-vogtland.de/component/dpcalendar/event/72?calid=12
LAST-MODIFIED:20251007T152549Z
SEQUENCE:14381
LOCATION:Kirchplatz 1\, 08606 Oelsnitz/Vogtl.
GEO:50.41480769;12.16961920
X-LOCATION-DISPLAYNAME:Oelsnitz, St. Jakobi Kirche
X-ACCESS:1
X-HITS:69
X-COLOR:eb9850
X-SHOW-END-TIME:1
END:VEVENT
BEGIN:VEVENT
DTSTART;TZID=Europe/Berlin:20251102T093000
DTEND;TZID=Europe/Berlin:20251102T103000
UID:5914F010-BA8E-4C47-AF70-5D02E8DCAF74
SUMMARY:Godi-Rodersdorf
CREATED:20251007T112731Z
DTSTAMP:20251007T112731Z
URL:https://move.st-jakobus-vogtland.de/component/dpcalendar/event/73?calid=12
LAST-MODIFIED:20251007T153103Z
SEQUENCE:14612
LOCATION:Hauptstraße 23\, 08538 Rodersdorf\, Solothurn
GEO:50.47148061;12.02242259
X-LOCATION-DISPLAYNAME:Rodersdorf, Gustav-Adolf-Kirche
X-ACCESS:1
X-HITS:67
X-COLOR:2ae856
X-SHOW-END-TIME:1
END:VEVENT
BEGIN:VEVENT
DTSTART;TZID=Europe/Berlin:20251102T093000
DTEND;TZID=Europe/Berlin:20251102T103000
UID:51139D58-A7F2-48B9-AECB-02895F7D9FC7
SUMMARY:Godi-Schwand
CREATED:20251007T112844Z
DTSTAMP:20251007T112844Z
URL:https://move.st-jakobus-vogtland.de/component/dpcalendar/event/74?calid=12
LAST-MODIFIED:20251007T152801Z
SEQUENCE:14357
LOCATION:Weischlitzer Str. \, 08538 Weischlitz
GEO:50.43409688;12.00934368
X-LOCATION-DISPLAYNAME:Schwand, Kirche
X-ACCESS:1
X-HITS:50
X-COLOR:4641e0
X-SHOW-END-TIME:1
END:VEVENT
BEGIN:VEVENT
DTSTART;TZID=Europe/Berlin:20251102T100000
DTEND;TZID=Europe/Berlin:20251102T113000
UID:22208154-6992-47A1-B56F-F423E7DFAE4E
SUMMARY:Kirche-kunterbunt Oelsnitz
CREATED:20251007T113319Z
DTSTAMP:20251007T113319Z
URL:https://move.st-jakobus-vogtland.de/component/dpcalendar/event/76?calid=12
LAST-MODIFIED:20251008T121318Z
SEQUENCE:88799
LOCATION:Kirchplatz 1\, 08606 Oelsnitz/Vogtl.
GEO:50.41480769;12.16961920
X-LOCATION-DISPLAYNAME:Oelsnitz, St. Jakobi Kirche
X-ACCESS:1
X-HITS:70
X-COLOR:eb9850
X-SHOW-END-TIME:1
END:VEVENT
BEGIN:VEVENT
DTSTART;TZID=Europe/Berlin:20251102T100000
DTEND;TZID=Europe/Berlin:20251102T110000
UID:EF837300-36AF-4A0C-9573-AABDFB963E94
SUMMARY:Godi-Tirpersdorf
CREATED:20251007T113359Z
DTSTAMP:20251007T113359Z
URL:https://move.st-jakobus-vogtland.de/component/dpcalendar/event/77?calid=12
LAST-MODIFIED:20251007T152249Z
SEQUENCE:13730
LOCATION:Am Anger\, 08606 Tirpersdorf\, Sachsen
GEO:50.43513000;12.25516000
X-LOCATION-DISPLAYNAME:Tirpersdorf, Kirche
X-ACCESS:1
X-HITS:42
X-COLOR:cccfed
X-SHOW-END-TIME:1
END:VEVENT
BEGIN:VEVENT
DTSTART;TZID=Europe/Berlin:20251102T140000
DTEND;TZID=Europe/Berlin:20251102T150000
UID:D2D9B4E4-2B8B-452C-9C81-3A3CCF9DB640
SUMMARY:Godi-Wiedersberg Hubertusmesse
CREATED:20251007T112948Z
DTSTAMP:20251007T112948Z
URL:https://move.st-jakobus-vogtland.de/component/dpcalendar/event/75?calid=12
LAST-MODIFIED:20251007T144305Z
SEQUENCE:11597
LOCATION:Am Feilebach 2\, 08606 Triebel\, Sachsen
GEO:50.36363487;11.99960231
X-LOCATION-DISPLAYNAME:Wiedersberg, Michaeliskirche
X-ACCESS:1
X-HITS:54
X-COLOR:ffd166
X-SHOW-END-TIME:1
END:VEVENT
BEGIN:VEVENT
DTSTART;TZID=Europe/Berlin:20251107T170000
DTEND;TZID=Europe/Berlin:20251107T180000
UID:274742CE-3C2D-41B4-B6EB-7A9EB2FE975C
SUMMARY:Rodersdorf Martinsfest
CREATED:20251007T145238Z
DTSTAMP:20251007T145238Z
URL:https://move.st-jakobus-vogtland.de/component/dpcalendar/event/83?calid=12
LAST-MODIFIED:20251007T153153Z
SEQUENCE:2355
LOCATION:Hauptstraße 23\, 08538 Rodersdorf\, Solothurn
GEO:50.47148061;12.02242259
X-LOCATION-DISPLAYNAME:Rodersdorf, Gustav-Adolf-Kirche
X-ACCESS:1
X-HITS:55
X-COLOR:2ae856
X-SHOW-END-TIME:1
END:VEVENT
BEGIN:VEVENT
DTSTART;TZID=Europe/Berlin:20251107T171500
DTEND;TZID=Europe/Berlin:20251107T181500
UID:FC7571AB-D2FA-47FD-82FF-A241D31CFE1C
SUMMARY:Oelsnitz Martinsfest
CREATED:20251007T145341Z
DTSTAMP:20251007T145341Z
URL:https://move.st-jakobus-vogtland.de/component/dpcalendar/event/84?calid=12
LAST-MODIFIED:20251007T152615Z
SEQUENCE:1954
LOCATION:Kirchplatz 1\, 08606 Oelsnitz/Vogtl.
GEO:50.41480769;12.16961920
X-LOCATION-DISPLAYNAME:Oelsnitz, St. Jakobi Kirche
X-ACCESS:1
X-HITS:61
X-COLOR:eb9850
X-SHOW-END-TIME:1
END:VEVENT
BEGIN:VEVENT
DTSTART;TZID=Europe/Berlin:20251108T183000
DTEND;TZID=Europe/Berlin:20251108T193000
UID:814AF406-6777-4DFE-95FA-C9800454A259
SUMMARY:Godi-Tirpersdorf Feierabend zum Sonntagsbeginn
CREATED:20251007T145104Z
DTSTAMP:20251007T145104Z
URL:https://move.st-jakobus-vogtland.de/component/dpcalendar/event/82?calid=12
LAST-MODIFIED:20251007T152303Z
SEQUENCE:1919
LOCATION:Am Anger\, 08606 Tirpersdorf\, Sachsen
GEO:50.43513000;12.25516000
X-LOCATION-DISPLAYNAME:Tirpersdorf, Kirche
X-ACCESS:1
X-HITS:51
X-COLOR:cccfed
X-SHOW-END-TIME:1
END:VEVENT
BEGIN:VEVENT
DTSTART;TZID=Europe/Berlin:20251109T083000
DTEND;TZID=Europe/Berlin:20251109T093000
UID:0FE62CD1-7083-4126-93E5-5D5AFFBDA05C
SUMMARY:Godi-Arnoldsgrün
CREATED:20251007T145444Z
DTSTAMP:20251007T145444Z
URL:https://move.st-jakobus-vogtland.de/component/dpcalendar/event/85?calid=12
LAST-MODIFIED:20251007T152313Z
SEQUENCE:1709
LOCATION:Kirchsteig  1A\, 08261 Arnoldsgrün
GEO:50.40936240;12.27660080
X-LOCATION-DISPLAYNAME:Marienkirche Arnoldsgrün
X-ACCESS:1
X-HITS:67
X-COLOR:cccfed
X-SHOW-END-TIME:1
END:VEVENT
BEGIN:VEVENT
DTSTART;TZID=Europe/Berlin:20251109T093000
DTEND;TZID=Europe/Berlin:20251109T103000
UID:5846F343-D6CE-45CC-A236-9B9CE8A3E07E
SUMMARY:Godi-Kloschwitz
CREATED:20251007T144729Z
DTSTAMP:20251007T144729Z
URL:https://move.st-jakobus-vogtland.de/component/dpcalendar/event/79?calid=12
LAST-MODIFIED:20251007T153210Z
SEQUENCE:2681
LOCATION:Kloschwitzer Hauptstraße\, 08538 Kloschwitz
GEO:50.47936687;12.05018877
X-LOCATION-DISPLAYNAME:Kloschwitz, Kirche
X-ACCESS:1
X-HITS:55
X-COLOR:2ae856
X-SHOW-END-TIME:1
END:VEVENT
BEGIN:VEVENT
DTSTART;TZID=Europe/Berlin:20251109T093000
DTEND;TZID=Europe/Berlin:20251109T103000
UID:78F797AA-CF39-4ABA-A896-1BA606DEDD6B
SUMMARY:Godi-Geilsdorf
CREATED:20251007T144819Z
DTSTAMP:20251007T144819Z
URL:https://move.st-jakobus-vogtland.de/component/dpcalendar/event/80?calid=12
LAST-MODIFIED:20251007T152816Z
SEQUENCE:2397
LOCATION:Schloßstrasse\, 08538 Geilsdorf\, Sachsen
GEO:50.42790496;12.03540490
X-LOCATION-DISPLAYNAME:Geilsdorf, Kirche
X-ACCESS:1
X-HITS:48
X-COLOR:4641e0
X-SHOW-END-TIME:1
END:VEVENT
BEGIN:VEVENT
DTSTART;TZID=Europe/Berlin:20251109T100000
DTEND;TZID=Europe/Berlin:20251109T110000
UID:B360910F-5188-4C93-B52C-C8B1AB6071DB
SUMMARY:Godi-Oelsnitz
CREATED:20251007T145534Z
DTSTAMP:20251007T145534Z
URL:https://move.st-jakobus-vogtland.de/component/dpcalendar/event/86?calid=12
LAST-MODIFIED:20251007T152628Z
SEQUENCE:1854
LOCATION:Kirchplatz 1\, 08606 Oelsnitz/Vogtl.
GEO:50.41480769;12.16961920
X-LOCATION-DISPLAYNAME:Oelsnitz, St. Jakobi Kirche
X-ACCESS:1
X-HITS:61
X-COLOR:eb9850
X-SHOW-END-TIME:1
END:VEVENT
BEGIN:VEVENT
DTSTART;TZID=Europe/Berlin:20251109T100000
DTEND;TZID=Europe/Berlin:20251109T110000
UID:22E9C404-1DDC-4B89-9858-FE576C278AD9
SUMMARY:Godi-Schöneck
CREATED:20251007T145751Z
DTSTAMP:20251007T145751Z
URL:https://move.st-jakobus-vogtland.de/component/dpcalendar/event/87?calid=12
LAST-MODIFIED:20251007T152326Z
SEQUENCE:1535
LOCATION:Sonnenwirbel 2a\, 08261 Schöneck
GEO:50.39167339;12.32989493
X-LOCATION-DISPLAYNAME:Schöneck Kreuzkirche
X-ACCESS:1
X-HITS:61
X-COLOR:cccfed
X-SHOW-END-TIME:1
END:VEVENT
BEGIN:VEVENT
DTSTART;TZID=Europe/Berlin:20251109T170000
DTEND;TZID=Europe/Berlin:20251109T180000
UID:A623B353-112C-45C9-9116-ADAEDF5B2DD0
SUMMARY:Godi-Eichigt zum Martinsfest
CREATED:20251007T144935Z
DTSTAMP:20251007T144935Z
URL:https://move.st-jakobus-vogtland.de/component/dpcalendar/event/81?calid=12
LAST-MODIFIED:20251007T144935Z
SEQUENCE:0
LOCATION:Eichigt
GEO:50.34984208;12.17411928
X-LOCATION-DISPLAYNAME:Eichigt, St. Katharina Kirche
X-ACCESS:1
X-HITS:45
X-COLOR:ffd166
X-SHOW-END-TIME:1
END:VEVENT
BEGIN:VEVENT
DTSTART;TZID=Europe/Berlin:20251111T170000
DTEND;TZID=Europe/Berlin:20251111T180000
UID:8EA70BD0-45D4-4190-836D-15FBE548FBF1
SUMMARY:Schöneck Martinsfest - Treffen Rathaus
CREATED:20251007T150109Z
DTSTAMP:20251007T150109Z
URL:https://move.st-jakobus-vogtland.de/component/dpcalendar/event/89?calid=12
LAST-MODIFIED:20251007T152340Z
SEQUENCE:1351
LOCATION:Sonnenwirbel 2a\, 08261 Schöneck
GEO:50.39167339;12.32989493
X-LOCATION-DISPLAYNAME:Schöneck Kreuzkirche
X-ACCESS:1
X-HITS:44
X-COLOR:cccfed
X-SHOW-END-TIME:1
END:VEVENT
BEGIN:VEVENT
DTSTART;TZID=Europe/Berlin:20251111T170000
DTEND;TZID=Europe/Berlin:20251111T180000
UID:E3C89DE3-25B7-4AD9-9584-C76F757B7DAC
SUMMARY:Bobenneukirchen Martinsfest
CREATED:20251007T150152Z
DTSTAMP:20251007T150152Z
URL:https://move.st-jakobus-vogtland.de/component/dpcalendar/event/90?calid=12
LAST-MODIFIED:20251007T150152Z
SEQUENCE:0
LOCATION:Kirchgasse 1\, 08606 Bösenbrunn\, Sachsen
GEO:50.37713100;12.06083724
X-LOCATION-DISPLAYNAME:Bobenneukirchen, St. Margareten Kirche
X-ACCESS:1
X-HITS:79
X-COLOR:ffd166
X-SHOW-END-TIME:1
END:VEVENT
BEGIN:VEVENT
DTSTART;TZID=Europe/Berlin:20251111T170000
DTEND;TZID=Europe/Berlin:20251111T180000
UID:83D4E88C-22EE-4A62-8E10-F33A5DF7C046
SUMMARY:Großzöbern Martinsfest
CREATED:20251007T150239Z
DTSTAMP:20251007T150239Z
URL:https://move.st-jakobus-vogtland.de/component/dpcalendar/event/91?calid=12
LAST-MODIFIED:20251007T152904Z
SEQUENCE:1585
X-ACCESS:1
X-HITS:48
X-COLOR:4641e0
X-SHOW-END-TIME:1
END:VEVENT
BEGIN:VEVENT
DTSTART;TZID=Europe/Berlin:20251115T170000
DTEND;TZID=Europe/Berlin:20251115T180000
UID:C188D0D2-224B-487D-9EF5-4BB57CCAC412
SUMMARY:Godi-Thossen mit Martinsfest
CREATED:20251007T150415Z
DTSTAMP:20251007T150415Z
URL:https://move.st-jakobus-vogtland.de/component/dpcalendar/event/92?calid=12
LAST-MODIFIED:20251007T153302Z
SEQUENCE:1727
LOCATION:Am Burgbach\, 08538 Thossen
GEO:50.46532773;11.99996713
X-LOCATION-DISPLAYNAME:Thossen, St. Martinskirche
X-ACCESS:1
X-HITS:61
X-COLOR:2ae856
X-SHOW-END-TIME:1
END:VEVENT
BEGIN:VEVENT
DTSTART;TZID=Europe/Berlin:20251115T170000
DTEND;TZID=Europe/Berlin:20251115T180000
UID:574980C8-1728-445C-B30F-F6B0F6A802EA
SUMMARY:Arnoldsgrün Martinsfest
CREATED:20251007T150711Z
DTSTAMP:20251007T150711Z
URL:https://move.st-jakobus-vogtland.de/component/dpcalendar/event/93?calid=12
LAST-MODIFIED:20251007T152352Z
SEQUENCE:1001
LOCATION:Kirchsteig  1A\, 08261 Arnoldsgrün
GEO:50.40936240;12.27660080
X-LOCATION-DISPLAYNAME:Marienkirche Arnoldsgrün
X-ACCESS:1
X-HITS:44
X-COLOR:cccfed
X-SHOW-END-TIME:1
END:VEVENT
BEGIN:VEVENT
DTSTART;TZID=Europe/Berlin:20251116T093000
DTEND;TZID=Europe/Berlin:20251116T103000
UID:B00D121A-5AAE-434D-B35C-9F345F7DAE7C
SUMMARY:Godi-Rodersdorf
CREATED:20251007T145938Z
DTSTAMP:20251007T145938Z
URL:https://move.st-jakobus-vogtland.de/component/dpcalendar/event/88?calid=12
LAST-MODIFIED:20251007T153317Z
SEQUENCE:2019
LOCATION:Hauptstraße 23\, 08538 Rodersdorf\, Solothurn
GEO:50.47148061;12.02242259
X-LOCATION-DISPLAYNAME:Rodersdorf, Gustav-Adolf-Kirche
X-ACCESS:1
X-HITS:44
X-COLOR:2ae856
X-SHOW-END-TIME:1
END:VEVENT
BEGIN:VEVENT
DTSTART;TZID=Europe/Berlin:20251116T093000
DTEND;TZID=Europe/Berlin:20251116T103000
UID:C2418F38-F8DC-43C9-9D6D-7E72C408F89E
SUMMARY:Godi-Geilsdorf
CREATED:20251007T150926Z
DTSTAMP:20251007T150926Z
URL:https://move.st-jakobus-vogtland.de/component/dpcalendar/event/94?calid=12
LAST-MODIFIED:20251007T152917Z
SEQUENCE:1191
LOCATION:Schloßstrasse\, 08538 Geilsdorf\, Sachsen
GEO:50.42790496;12.03540490
X-LOCATION-DISPLAYNAME:Geilsdorf, Kirche
X-ACCESS:1
X-HITS:55
X-COLOR:4641e0
X-SHOW-END-TIME:1
END:VEVENT
BEGIN:VEVENT
DTSTART;TZID=Europe/Berlin:20251116T093000
DTEND;TZID=Europe/Berlin:20251116T103000
UID:8ACAD124-CE3F-4BEE-96EB-34914644C8A1
SUMMARY:Godi-Wiedersberg
CREATED:20251007T151028Z
DTSTAMP:20251007T151028Z
URL:https://move.st-jakobus-vogtland.de/component/dpcalendar/event/95?calid=12
LAST-MODIFIED:20251007T151028Z
SEQUENCE:0
LOCATION:Am Feilebach 2\, 08606 Triebel\, Sachsen
GEO:50.36363487;11.99960231
X-LOCATION-DISPLAYNAME:Wiedersberg, Michaeliskirche
X-ACCESS:1
X-HITS:53
X-COLOR:ffd166
X-SHOW-END-TIME:1
END:VEVENT
BEGIN:VEVENT
DTSTART;TZID=Europe/Berlin:20251116T100000
DTEND;TZID=Europe/Berlin:20251116T110000
UID:C92FF025-8EF0-4FAD-BF8C-1AAE43AE77C1
SUMMARY:Godi-Oelsnitz
CREATED:20251007T151127Z
DTSTAMP:20251007T151127Z
URL:https://move.st-jakobus-vogtland.de/component/dpcalendar/event/96?calid=12
LAST-MODIFIED:20251007T152649Z
SEQUENCE:922
LOCATION:Kirchplatz 1\, 08606 Oelsnitz/Vogtl.
GEO:50.41480769;12.16961920
X-LOCATION-DISPLAYNAME:Oelsnitz, St. Jakobi Kirche
X-ACCESS:1
X-HITS:52
X-COLOR:eb9850
X-SHOW-END-TIME:1
END:VEVENT
BEGIN:VEVENT
DTSTART;TZID=Europe/Berlin:20251116T100000
DTEND;TZID=Europe/Berlin:20251116T110000
UID:A2BCDDE6-D274-414A-A739-020A470E95F6
SUMMARY:Godi-Tirpersdorf
CREATED:20251007T151206Z
DTSTAMP:20251007T151206Z
URL:https://move.st-jakobus-vogtland.de/component/dpcalendar/event/97?calid=12
LAST-MODIFIED:20251007T152406Z
SEQUENCE:720
LOCATION:Am Anger\, 08606 Tirpersdorf\, Sachsen
GEO:50.43513000;12.25516000
X-LOCATION-DISPLAYNAME:Tirpersdorf, Kirche
X-ACCESS:1
X-HITS:41
X-COLOR:cccfed
X-SHOW-END-TIME:1
END:VEVENT
BEGIN:VEVENT
DTSTART;TZID=Europe/Berlin:20251122T170000
DTEND;TZID=Europe/Berlin:20251122T180000
UID:45DC49C4-1B16-4E57-B1BA-BB5A7E419848
SUMMARY:Godi-Geilsdorf
CREATED:20251007T151348Z
DTSTAMP:20251007T151348Z
URL:https://move.st-jakobus-vogtland.de/component/dpcalendar/event/99?calid=12
LAST-MODIFIED:20251007T152928Z
SEQUENCE:940
LOCATION:Schloßstrasse\, 08538 Geilsdorf\, Sachsen
GEO:50.42790496;12.03540490
X-LOCATION-DISPLAYNAME:Geilsdorf, Kirche
X-ACCESS:1
X-HITS:64
X-COLOR:4641e0
X-SHOW-END-TIME:1
END:VEVENT
BEGIN:VEVENT
DTSTART;TZID=Europe/Berlin:20251123T083000
DTEND;TZID=Europe/Berlin:20251123T093000
UID:4F090072-E2AF-4FC3-9B97-1B0EB5191206
SUMMARY:Godi-Arnoldsgrün
CREATED:20251007T151651Z
DTSTAMP:20251007T151651Z
URL:https://move.st-jakobus-vogtland.de/component/dpcalendar/event/103?calid=12
LAST-MODIFIED:20251007T152417Z
SEQUENCE:446
LOCATION:Kirchsteig  1A\, 08261 Arnoldsgrün
GEO:50.40936240;12.27660080
X-LOCATION-DISPLAYNAME:Marienkirche Arnoldsgrün
X-ACCESS:1
X-HITS:56
X-COLOR:cccfed
X-SHOW-END-TIME:1
END:VEVENT
BEGIN:VEVENT
DTSTART;TZID=Europe/Berlin:20251123T093000
DTEND;TZID=Europe/Berlin:20251123T103000
UID:6AFD2D0C-FEBE-4F56-A512-215E1B9A914D
SUMMARY:Godi-Kürbitz
CREATED:20251007T151313Z
DTSTAMP:20251007T151313Z
URL:https://move.st-jakobus-vogtland.de/component/dpcalendar/event/98?calid=12
LAST-MODIFIED:20251007T153343Z
SEQUENCE:1230
LOCATION:Kirchplatz\, 08538 Weischlitz\, Sachsen
GEO:50.46206659;12.07380823
X-LOCATION-DISPLAYNAME:Kürbitz, Salvatorkirche
X-ACCESS:1
X-HITS:51
X-COLOR:2ae856
X-SHOW-END-TIME:1
END:VEVENT
BEGIN:VEVENT
DTSTART;TZID=Europe/Berlin:20251123T093000
DTEND;TZID=Europe/Berlin:20251123T103000
UID:A1EF7A95-371B-4282-88F5-702B84F2305C
SUMMARY:Godi-Bobenneukirchen
CREATED:20251007T151440Z
DTSTAMP:20251007T151440Z
URL:https://move.st-jakobus-vogtland.de/component/dpcalendar/event/100?calid=12
LAST-MODIFIED:20251007T151440Z
SEQUENCE:0
LOCATION:Kirchgasse 1\, 08606 Bösenbrunn\, Sachsen
GEO:50.37713100;12.06083724
X-LOCATION-DISPLAYNAME:Bobenneukirchen, St. Margareten Kirche
X-ACCESS:1
X-HITS:45
X-COLOR:ffd166
X-SHOW-END-TIME:1
END:VEVENT
BEGIN:VEVENT
DTSTART;TZID=Europe/Berlin:20251123T100000
DTEND;TZID=Europe/Berlin:20251123T110000
UID:B242AFC7-D0CE-436F-809A-6E7A416F9E27
SUMMARY:Godi-Oelsnitz
CREATED:20251007T151523Z
DTSTAMP:20251007T151523Z
URL:https://move.st-jakobus-vogtland.de/component/dpcalendar/event/101?calid=12
LAST-MODIFIED:20251007T152659Z
SEQUENCE:696
LOCATION:Kirchplatz 1\, 08606 Oelsnitz/Vogtl.
GEO:50.41480769;12.16961920
X-LOCATION-DISPLAYNAME:Oelsnitz, St. Jakobi Kirche
X-ACCESS:1
X-HITS:53
X-COLOR:eb9850
X-SHOW-END-TIME:1
END:VEVENT
BEGIN:VEVENT
DTSTART;TZID=Europe/Berlin:20251123T100000
DTEND;TZID=Europe/Berlin:20251123T110000
UID:B1FCE5E4-3A8B-4CFE-A589-6E172890C561
SUMMARY:Godi-Tirpersdorf
CREATED:20251007T151600Z
DTSTAMP:20251007T151600Z
URL:https://move.st-jakobus-vogtland.de/component/dpcalendar/event/102?calid=12
LAST-MODIFIED:20251007T152429Z
SEQUENCE:509
LOCATION:Am Anger\, 08606 Tirpersdorf\, Sachsen
GEO:50.43513000;12.25516000
X-LOCATION-DISPLAYNAME:Tirpersdorf, Kirche
X-ACCESS:1
X-HITS:38
X-COLOR:cccfed
X-SHOW-END-TIME:1
END:VEVENT
BEGIN:VEVENT
DTSTART;TZID=Europe/Berlin:20251123T100000
DTEND;TZID=Europe/Berlin:20251123T110000
UID:8CA80474-2BC9-4914-8B74-46AE76ACDA36
SUMMARY:Godi-Schöneck
CREATED:20251007T151732Z
DTSTAMP:20251007T151732Z
URL:https://move.st-jakobus-vogtland.de/component/dpcalendar/event/104?calid=12
LAST-MODIFIED:20251007T152439Z
SEQUENCE:427
LOCATION:Kirchplatz 5\, 08261 Schöneck
GEO:50.39111530;12.32811570
X-LOCATION-DISPLAYNAME:St. Georgs Kirche Schöneck
X-ACCESS:1
X-HITS:34
X-COLOR:cccfed
X-SHOW-END-TIME:1
END:VEVENT
END:VCALENDAR