BEGIN:VCALENDAR
VERSION:2.0
PRODID:DPCALENDAR
CALSCALE:GREGORIAN
BEGIN:VTIMEZONE
TZID:Europe/Berlin
X-MICROSOFT-CDO-TZID:4
BEGIN:STANDARD
DTSTART:20251026T010000
TZOFFSETFROM:+0200
TZOFFSETTO:+0100
TZNAME:CET
END:STANDARD
BEGIN:STANDARD
DTSTART:20261025T010000
TZOFFSETFROM:+0200
TZOFFSETTO:+0100
TZNAME:CET
END:STANDARD
BEGIN:DAYLIGHT
DTSTART:20260329T010000
TZOFFSETFROM:+0100
TZOFFSETTO:+0200
TZNAME:CEST
END:DAYLIGHT
END:VTIMEZONE
X-WR-TIMEZONE:Europe/Berlin
BEGIN:VEVENT
DTSTART;TZID=Europe/Berlin:20260426T100000
DTEND;TZID=Europe/Berlin:20260426T110000
UID:A4DB591B-7686-41B8-95A7-7E1FAA4C2F19
SUMMARY:Kürbitz
CREATED:20251219T133024Z
DTSTAMP:20251219T133024Z
URL:https://move.st-jakobus-vogtland.de/component/dpcalendar/event/105?calid=13
LAST-MODIFIED:20251219T133024Z
SEQUENCE:0
X-ACCESS:1
X-HITS:6
X-COLOR:997840
X-SHOW-END-TIME:0
END:VEVENT
BEGIN:VEVENT
DTSTART;TZID=Europe/Berlin:20260426T100000
DTEND;TZID=Europe/Berlin:20260426T110000
UID:F06A4888-D454-41BD-A334-B0ACCE1E9B3D
SUMMARY:Oelsnitz
CREATED:20251219T133051Z
DTSTAMP:20251219T133051Z
URL:https://move.st-jakobus-vogtland.de/component/dpcalendar/event/106?calid=13
LAST-MODIFIED:20251219T133051Z
SEQUENCE:0
X-ACCESS:1
X-HITS:6
X-COLOR:997840
X-SHOW-END-TIME:0
END:VEVENT
BEGIN:VEVENT
DTSTART;TZID=Europe/Berlin:20260426T140000
DTEND;TZID=Europe/Berlin:20260426T150000
UID:16360A03-AD90-41D3-8A11-7302DFB28188
SUMMARY:Schöneck
CREATED:20251219T133102Z
DTSTAMP:20251219T133102Z
URL:https://move.st-jakobus-vogtland.de/component/dpcalendar/event/107?calid=13
LAST-MODIFIED:20251219T133121Z
SEQUENCE:19
X-ACCESS:1
X-HITS:6
X-COLOR:997840
X-SHOW-END-TIME:0
END:VEVENT
BEGIN:VEVENT
DTSTART;TZID=Europe/Berlin:20260531T100000
DTEND;TZID=Europe/Berlin:20260531T110000
UID:9E9195C2-3674-49CB-AA08-28AE0C53FA8D
SUMMARY:Tirpersdorf
CREATED:20251219T133153Z
DTSTAMP:20251219T133153Z
URL:https://move.st-jakobus-vogtland.de/component/dpcalendar/event/109?calid=13
LAST-MODIFIED:20251219T133621Z
SEQUENCE:268
X-ACCESS:1
X-HITS:6
X-COLOR:997840
X-SHOW-END-TIME:0
END:VEVENT
BEGIN:VEVENT
DTSTART;TZID=Europe/Berlin:20260531T130000
DTEND;TZID=Europe/Berlin:20260531T140000
UID:0FFA5C17-ED53-442E-B2E8-0C042C924A9D
SUMMARY:Bobenneukirchen
CREATED:20251219T133137Z
DTSTAMP:20251219T133137Z
URL:https://move.st-jakobus-vogtland.de/component/dpcalendar/event/108?calid=13
LAST-MODIFIED:20251219T133632Z
SEQUENCE:295
X-ACCESS:1
X-HITS:6
X-COLOR:997840
X-SHOW-END-TIME:0
END:VEVENT
BEGIN:VEVENT
DTSTART;TZID=Europe/Berlin:20270418T100000
DTEND;TZID=Europe/Berlin:20270418T110000
UID:F79C119E-0DB9-47A4-82FC-58D1D87EBED1
SUMMARY:Oelsnitz
CREATED:20251219T133548Z
DTSTAMP:20251219T133548Z
URL:https://move.st-jakobus-vogtland.de/component/dpcalendar/event/110?calid=13
LAST-MODIFIED:20251219T133548Z
SEQUENCE:0
X-ACCESS:1
X-HITS:6
X-COLOR:997840
X-SHOW-END-TIME:0
END:VEVENT
BEGIN:VEVENT
DTSTART;TZID=Europe/Berlin:20270425T130000
DTEND;TZID=Europe/Berlin:20270425T140000
UID:F763E3F0-F7D9-43C0-B93D-AA4AACEC0D02
SUMMARY:Oelsnitz
CREATED:20251219T133611Z
DTSTAMP:20251219T133611Z
URL:https://move.st-jakobus-vogtland.de/component/dpcalendar/event/111?calid=13
LAST-MODIFIED:20251219T133626Z
SEQUENCE:15
X-ACCESS:1
X-HITS:6
X-COLOR:997840
X-SHOW-END-TIME:0
END:VEVENT
END:VCALENDAR